BEGIN:VCALENDAR
PRODID:-//AT Content Types//AT Event//EN
VERSION:2.0
METHOD:PUBLISH
BEGIN:VEVENT
DTSTAMP:20260422T104856Z
CREATED:20090827T091719Z
UID:ATEvent-26cd5463bec9f78e6d8399a9e34c187f
LAST-MODIFIED:20100813T074655Z
SUMMARY:Serigrafia tailerra
DTSTART:20050430T220000Z
DTEND:20050530T220000Z
DESCRIPTION:Esperimentazio eta proiektuen gauzatze ikastaroa
LOCATION:Arteleku
CATEGORIES:Tailerra
CLASS:PUBLIC
END:VEVENT
END:VCALENDAR
