BEGIN:VCALENDAR
PRODID:-//AT Content Types//AT Event//EN
VERSION:2.0
METHOD:PUBLISH
BEGIN:VEVENT
DTSTAMP:20260423T120506Z
CREATED:20090826T103316Z
UID:ATEvent-a31b55a7a57497abdb128868e9dc012f
LAST-MODIFIED:20100813T074451Z
SUMMARY:Proiekzioak
DTSTART:20051001T173000Z
DTEND:20051001T183000Z
DESCRIPTION:EL SUEÑO DEL PIBE TOUR Gravedad Zero y Ojo de Pez. GETTIN
 G NOWHERE FASTER Villa Villa Cola. LISTEN TO SRECNA MLADINA Jaka Babni
 k.
LOCATION:Kutxa aretoa\, Arrasate kalea 12. Donostia
CLASS:PUBLIC
END:VEVENT
END:VCALENDAR
