BEGIN:VCALENDAR
PRODID:-//AT Content Types//AT Event//EN
VERSION:2.0
METHOD:PUBLISH
BEGIN:VEVENT
DTSTAMP:20260423T104637Z
CREATED:20090826T103718Z
UID:ATEvent-19384ab84e23fccffe1fd7d513c08ef7
LAST-MODIFIED:20100813T074457Z
SUMMARY:Proiekzioak
DTSTART:20051002T183500Z
DTEND:20051002T103500Z
DESCRIPTION:VIRTUAL REALITY Mike Ternasky (rip). \nFREEDOM Sophisto & 
 Andy Howell.
LOCATION:Soma 107\, c/Larramendi 4\, Donostia
CLASS:PUBLIC
END:VEVENT
END:VCALENDAR
