BEGIN:VCALENDAR
PRODID:-//AT Content Types//AT Event//EN
VERSION:2.0
METHOD:PUBLISH
BEGIN:VEVENT
DTSTAMP:20260423T105618Z
CREATED:20090826T104905Z
UID:ATEvent-424cec395ee3cc104bcd4221a91fbab7
LAST-MODIFIED:20100813T074505Z
SUMMARY:Museum X and other alternate\, but realistic power structures(X museoa eta beste botere egitura alternatibo\, baina errealista batzuk)
DTSTART:20050926T220000Z
DTEND:20050926T220000Z
LOCATION:Arteleku
CATEGORIES:Hitzaldi irekiak
CLASS:PUBLIC
END:VEVENT
END:VCALENDAR
