BEGIN:VCALENDAR
PRODID:-//AT Content Types//AT Event//EN
VERSION:2.0
METHOD:PUBLISH
BEGIN:VEVENT
DTSTAMP:20260423T080608Z
CREATED:20090901T060043Z
UID:ATEvent-f785df48b7943734940e96ad765e8614
LAST-MODIFIED:20100811T101442Z
SUMMARY:Film proiekzioa
DTSTART:20060503T181500Z
DTEND:20060502T220000Z
DESCRIPTION:Nosferatu zinema zikloaren barnean \nJoaquim Jordàren lan
 aren atzerabegirakoaren barruan bi film proiektatuko dituzte. \nDía d
 e los muertos (1960). España. 12 min. (Codirigida por Julián Marcos)
 \nDante no es únicamente severo (1967). España. 78 min. (Codirigida 
 por Jacinto Esteva)
LOCATION:Donostiako Antzoki Zaharrean
CLASS:PUBLIC
END:VEVENT
END:VCALENDAR
