BEGIN:VCALENDAR
PRODID:-//AT Content Types//AT Event//EN
VERSION:2.0
METHOD:PUBLISH
BEGIN:VEVENT
DTSTAMP:20260423T104045Z
CREATED:20090827T081047Z
UID:ATEvent-147ee34940c1e92c1b32212a0060d946
LAST-MODIFIED:20100813T075504Z
SUMMARY:Lupa eta Imana
DTSTART:20050903T220000Z
DTEND:20050930T081000Z
DESCRIPTION:pinturatik abiatuta eginiko praktika artistikoko lantegia
LOCATION:Arteleku
CATEGORIES:Tailerra
CLASS:PUBLIC
END:VEVENT
END:VCALENDAR
