BEGIN:VCALENDAR
PRODID:-//AT Content Types//AT Event//EN
VERSION:2.0
METHOD:PUBLISH
BEGIN:VEVENT
DTSTAMP:20260423T105725Z
CREATED:20090827T084115Z
UID:ATEvent-d3cccefa81b9d0b1eb0504895359bba1
LAST-MODIFIED:20100813T075502Z
SUMMARY:Ganjazzz kolektiboak (cannabis erabiltzaileen taldeak) antolatutako saioa.
DTSTART:20050728T220000Z
DTEND:20050728T220000Z
LOCATION:Arteleku
CATEGORIES:Hitzaldi irekiak
CLASS:PUBLIC
END:VEVENT
END:VCALENDAR
