BEGIN:VCALENDAR
PRODID:-//AT Content Types//AT Event//EN
VERSION:2.0
METHOD:PUBLISH
BEGIN:VEVENT
DTSTAMP:20260423T103926Z
CREATED:20100203T002530Z
UID:ATEvent-d01a2a80e412d6e6b30a5db46ac1687d
LAST-MODIFIED:20100916T102202Z
SUMMARY:AVID ikastaroak 2005
DTSTART:20041231T230000Z
DTEND:20051230T230000Z
DESCRIPTION:Sormen garaikidean erreprodukzioaren azkeneko teknologiak 
 sartu direlarik\, mamizko aldaketa gertatu da egungo artista askoren l
 anek oinarritzat dituzten premisetan.
CATEGORIES:Tailerren zikloa
CLASS:PUBLIC
END:VEVENT
END:VCALENDAR
