BEGIN:VCALENDAR
PRODID:-//AT Content Types//AT Event//EN
VERSION:2.0
METHOD:PUBLISH
BEGIN:VEVENT
DTSTAMP:20260423T104726Z
CREATED:20090826T102134Z
UID:ATEvent-4caa9fe0e09448fce072adda32b9153c
LAST-MODIFIED:20100813T074442Z
SUMMARY:Artisten aurkezpenak\: Apolonija Sustersic eta Pavel Büchler.
DTSTART:20051004T170000Z
DTEND:20051004T182000Z
CATEGORIES:Hitzaldi irekiak
CLASS:PUBLIC
END:VEVENT
END:VCALENDAR
