BEGIN:VCALENDAR
PRODID:-//AT Content Types//AT Event//EN
VERSION:2.0
METHOD:PUBLISH
BEGIN:VEVENT
DTSTAMP:20260419T144800Z
CREATED:20120614T135327Z
UID:ATEvent-4fe925174623085bb6218a0576625791
LAST-MODIFIED:20120706T115845Z
SUMMARY:COMUNICO\, LUEGO EXISTO. IDENTIDAD DE MARCA Y COMUNICACIÃ“N ONLINE PARA ARTISTAS Y CREADORES
DTSTART:20120709T133000Z
DTEND:20120711T133000Z
DESCRIPTION:Inmaculada Urrea\, experta en Brand Meaning y contenidos d
 igitales conduce este taller en el que a travÃ©s de dos cuestiones fun
 damentales\, la identidad de marca y las redes sociales\, desarrollarÃ
 ¡ importantes claves para una comunicaciÃ³n online efectiva aplicable 
 a proyectos artÃ­sticos y creativos de diversa Ã­ndole\: artes plÃ¡sti
 cas y visuales\, moda\, artes escÃ©nicas.
CATEGORIES:Taller
CLASS:PUBLIC
END:VEVENT
END:VCALENDAR
