BEGIN:VCALENDAR
PRODID:-//AT Content Types//AT Event//EN
VERSION:2.0
METHOD:PUBLISH
BEGIN:VEVENT
DTSTAMP:20260422T074515Z
CREATED:20100423T092757Z
UID:ATEvent-1fb15b82f6169c80fc23545dd125bc8c
LAST-MODIFIED:20100813T075334Z
SUMMARY:Castoriadis. Encrucijadas de la creaciÃ³n
DTSTART:20060504T092000Z
DTEND:20060519T092000Z
DESCRIPTION:Este seminario aborda una introducciÃ³n al poliÃ©drico leg
 ado intelectual de CornÃ©lius Castoriadis (Costantinopla\, 1922 - ParÃ
 ­s\, 1997)\, filÃ³sofo\, economista\, y psicoanalista\; y asimismo abo
 rdarÃ¡ una aproximaciÃ³n crÃ­tica a su praxis social y polÃ­tica. La o
 riginal y lÃºcida aportaciÃ³n de Castoriadis es una invitaciÃ³n a pens
 ar\, a cuestionar la filosofÃ­a y las significaciones imaginarias here
 dadas en todos los dominios de lo humano. Como clave de su construcciÃ
 ³n teÃ³rica encontramos la idea de creaciÃ³n humana ligada a la potenc
 ia de la imaginaciÃ³n radical y la importancia de lo social-histÃ³rico
 \, entendido como una forma ontolÃ³gica que puede cuestionarse a sÃ­ m
 isma y\, mediante esta actividad autorreflexiva\, alterarse explÃ­cita
 mente. De este modo\, postula una ciencia general del ser humano que i
 ntegra una dimensiÃ³n antropolÃ³gica\, filosÃ³fica\, polÃ­tica y psico
 analÃ­tica.
CATEGORIES:Seminario
CLASS:PUBLIC
END:VEVENT
END:VCALENDAR
