BEGIN:VCALENDAR
PRODID:-//AT Content Types//AT Event//EN
VERSION:2.0
METHOD:PUBLISH
BEGIN:VEVENT
DTSTAMP:20260421T080656Z
CREATED:20090901T061355Z
UID:ATEvent-7a9ed054e3e0558b4c1bb1100da4c89c
LAST-MODIFIED:20100813T074355Z
SUMMARY:Inauguración de la muestra ZEPPELIN\: PROYECTOS SONOROS
DTSTART:20060506T100000Z
DTEND:20060505T220000Z
DESCRIPTION:Inauguración de la muestra ZEPPELIN\: PROYECTOS SONOROS. 
 Tras el acto los asistentes podrán disfrutar del concierto On Nothing
  de José Manuel Berenguer.
LOCATION:Sala de exposiciones Bastero de Andoain
CLASS:PUBLIC
END:VEVENT
END:VCALENDAR
