BEGIN:VCALENDAR
PRODID:-//AT Content Types//AT Event//EN
VERSION:2.0
METHOD:PUBLISH
BEGIN:VEVENT
DTSTAMP:20260423T122552Z
CREATED:20090827T084115Z
UID:ATEvent-2be16b368760c18ede8ecdc59eb6a152
LAST-MODIFIED:20100813T075502Z
SUMMARY:Sesión organizada por Ganjazz Art Club (Asociación de usuarios de Cannabis).
DTSTART:20050728T220000Z
DTEND:20050728T220000Z
LOCATION:Arteleku
CATEGORIES:Conferencias abiertas
CLASS:PUBLIC
END:VEVENT
END:VCALENDAR
