BEGIN:VCALENDAR
PRODID:-//AT Content Types//AT Event//EN
VERSION:2.0
METHOD:PUBLISH
BEGIN:VEVENT
DTSTAMP:20260422T093343Z
CREATED:20090901T063110Z
UID:ATEvent-9a86835b70e7e55138626d14e0fa14f3
LAST-MODIFIED:20100813T075145Z
SUMMARY:Proyección de vídeos
DTSTART:20060524T181500Z
DTEND:20060523T220000Z
DESCRIPTION:Ciclo de cine Nosferatu\nDentro de la retrospectiva dedica
 da a Joaquim Jordà se proyectará Numax presenta… (1979). España. 
 100 min.
LOCATION:Arteleku
CLASS:PUBLIC
END:VEVENT
END:VCALENDAR
