BEGIN:VCALENDAR
PRODID:-//AT Content Types//AT Event//EN
VERSION:2.0
METHOD:PUBLISH
BEGIN:VEVENT
DTSTAMP:20260422T010127Z
CREATED:20090826T105541Z
UID:ATEvent-99712607d948a9b3508fac9e3630aab4
LAST-MODIFIED:20100813T074650Z
SUMMARY:Haegue Yang & Hyunjin Kim. Can the agent speak?(¿ Puede hablar el agente?)
DTSTART:20050930T165500Z
DTEND:20050930T185500Z
LOCATION:Arteleku
CATEGORIES:Conferencias abiertas
CLASS:PUBLIC
END:VEVENT
END:VCALENDAR
