BEGIN:VCALENDAR
PRODID:-//AT Content Types//AT Event//EN
VERSION:2.0
METHOD:PUBLISH
BEGIN:VEVENT
DTSTAMP:20260423T103725Z
CREATED:20090827T081047Z
UID:ATEvent-7107b6b696068d6c6f0e830215cba140
LAST-MODIFIED:20100813T075504Z
SUMMARY:Lupa e Imán
DTSTART:20050903T220000Z
DTEND:20050930T081000Z
DESCRIPTION:Taller de práctica artística desde la pintura.
LOCATION:Arteleku
CATEGORIES:Workshop
CLASS:PUBLIC
END:VEVENT
END:VCALENDAR
