BEGIN:VCALENDAR
PRODID:-//AT Content Types//AT Event//EN
VERSION:2.0
METHOD:PUBLISH
BEGIN:VEVENT
DTSTAMP:20260423T103744Z
CREATED:20090827T080256Z
UID:ATEvent-e8ced929b5822c22f27415030760fe2d
LAST-MODIFIED:20100813T075459Z
SUMMARY:Lithography
DTSTART:20050630T220000Z
DTEND:20050729T080000Z
CATEGORIES:Workshop
CLASS:PUBLIC
END:VEVENT
END:VCALENDAR
