BEGIN:VCALENDAR
PRODID:-//AT Content Types//AT Event//EN
VERSION:2.0
METHOD:PUBLISH
BEGIN:VEVENT
DTSTAMP:20260423T121708Z
CREATED:20090826T110058Z
UID:ATEvent-45f4931beeed4a61d4cdd90328b8a1f1
LAST-MODIFIED:20100813T075503Z
SUMMARY:Fiesta inauguración del nuevo local Noventa Grados de Marcial Muñoz
DTSTART:20050827T100000Z
DTEND:20050827T100000Z
DESCRIPTION:Concierto de munlet\, drum dj party y rai dj\, y proyeccio
 nes de funny ha-ha vj y processblack.com
LOCATION:Arteleku
CLASS:PUBLIC
END:VEVENT
END:VCALENDAR
