BEGIN:VCALENDAR
PRODID:-//AT Content Types//AT Event//EN
VERSION:2.0
METHOD:PUBLISH
BEGIN:VEVENT
DTSTAMP:20260421T163104Z
CREATED:20121001T182641Z
UID:ATEvent-c684359e425e2d90b9881a00ce49a46a
LAST-MODIFIED:20121008T092735Z
SUMMARY:Tresnak\:\:Tools{07 – Digital Manufacturing\: “Repeat. Transform. Parametrize.”
DTSTART:20121017T182000Z
DTEND:20121019T182000Z
DESCRIPTION:The workshop seeks to showcase the creation of parametric 
 forms and systems to artists\, designers and architects.  The proposed
  exercise is therefore to create and print objects – created using t
 he parametric design paradigm – that can be configured within a modu
 lar system.
CLASS:PUBLIC
END:VEVENT
END:VCALENDAR
