BEGIN:VCALENDAR
PRODID:-//AT Content Types//AT Event//EN
VERSION:2.0
METHOD:PUBLISH
BEGIN:VEVENT
DTSTAMP:20260421T104935Z
CREATED:20060917T220000Z
UID:ATEvent-ac817d5307fab792aca317f74a6030e8
LAST-MODIFIED:20100813T075259Z
SUMMARY:AUDIOLAB\: Auskal Muturreko Musika
DTSTART:20060810T220000Z
DTEND:20060812T220000Z
DESCRIPTION:"Erradikala izatea erroetara jotzea bada\, musikaren erroa
  soinua da" Euskal herriko musika esperimentalen inguruko topaketak ar
 telekun.
CATEGORIES:Topaketa
CLASS:PUBLIC
END:VEVENT
END:VCALENDAR
